BEGIN:VCALENDAR
VERSION:2.0
PRODID:icalendar-ruby
CALSCALE:GREGORIAN
METHOD:PUBLISH
BEGIN:VEVENT
DTSTAMP:20260421T194748Z
UID:15-651848@phsachurch.com
DTSTART:20260709T014500Z
DTEND:20260709T024500Z
CLASS:PUBLIC
CREATED:20260421T124519
DESCRIPTION:Mid-Week Bible Study
LAST-MODIFIED:20260421T124519
LOCATION:Church
SUMMARY:Bible Study
URL;VALUE=URI:https://www.phsachurch.com/events/bible-study/2026-07-08
ATTACH;FILENAME=FzpWW.jpg;FMTTYPE=image/jpeg:https://dq5pwpg1q8ru0.cloudfro
 nt.net/2025/10/14/22/01/18/ece69b70-02e6-4eb6-8462-1f36e6bb42a1/FzpWW.jpg
END:VEVENT
END:VCALENDAR
