BEGIN:VCALENDAR
VERSION:2.0
PRODID:icalendar-ruby
CALSCALE:GREGORIAN
METHOD:PUBLISH
BEGIN:VEVENT
DTSTAMP:20260420T072300Z
UID:16-646834@phsachurch.com
DTSTART:20260926T170000Z
DTEND:20260927T063000Z
CLASS:PUBLIC
CREATED:20260420T000435
DESCRIPTION:Signs and Wonders Outreach!
LAST-MODIFIED:20260420T000435
LOCATION:Ross Street Plaza
SUMMARY:Saturday Outreach
URL;VALUE=URI:https://www.phsachurch.com/events/saturday-outreach/2026-09-2
 6
ATTACH;FILENAME=Snip20251014_2.png;FMTTYPE=image/png:https://dq5pwpg1q8ru0.
 cloudfront.net/2025/10/14/22/09/15/db7c0db1-8aeb-4062-bebf-d1a325cd4181/Sn
 ip20251014_2.png
END:VEVENT
END:VCALENDAR
