BEGIN:VCALENDAR
VERSION:2.0
PRODID:icalendar-ruby
CALSCALE:GREGORIAN
METHOD:PUBLISH
BEGIN:VEVENT
DTSTAMP:20260424T163307Z
UID:8-659939@phsachurch.com
DTSTART:20260920T173000Z
DTEND:20260920T190000Z
CLASS:PUBLIC
CREATED:20260424T080123
DESCRIPTION:
LAST-MODIFIED:20260424T080123
LOCATION:Church
SUMMARY:Sunday Service
URL;VALUE=URI:https://www.phsachurch.com/events/sunday-service/2026-09-20
ATTACH;FILENAME=New-Building.jpeg;FMTTYPE=image/jpeg:https://dq5pwpg1q8ru0.
 cloudfront.net/2025/10/14/22/20/50/6341e965-b1a8-48fc-995a-be78a37b9f5d/Ne
 w-Building.jpeg
END:VEVENT
END:VCALENDAR
