BEGIN:VCALENDAR
VERSION:2.0
PRODID:icalendar-ruby
CALSCALE:GREGORIAN
METHOD:PUBLISH
BEGIN:VEVENT
DTSTAMP:20260419T120548Z
UID:5-643545@phsachurch.com
DTSTART:20260927T170000Z
DTEND:20260927T180000Z
CLASS:PUBLIC
CREATED:20260419T001945
DESCRIPTION:Sunday Worship
LAST-MODIFIED:20260419T001945
LOCATION:
SUMMARY:Sunday Worship
URL;VALUE=URI:https://www.phsachurch.com/events/sunday-worship/2026-09-27
END:VEVENT
END:VCALENDAR
