BEGIN:VCALENDAR
VERSION:2.0
PRODID:icalendar-ruby
CALSCALE:GREGORIAN
METHOD:PUBLISH
BEGIN:VEVENT
DTSTAMP:20260419T174417Z
UID:5-644561@phsachurch.com
DTSTART:20261025T170000Z
DTEND:20261025T180000Z
CLASS:PUBLIC
CREATED:20260419T092439
DESCRIPTION:Sunday Worship
LAST-MODIFIED:20260419T092439
LOCATION:
SUMMARY:Sunday Worship
URL;VALUE=URI:https://www.phsachurch.com/events/sunday-worship/2026-10-25
END:VEVENT
END:VCALENDAR
